BEGIN:VCALENDAR
VERSION:2.0
PRODID:-//S4G School for Games - ECPv6.15.20//NONSGML v1.0//EN
CALSCALE:GREGORIAN
METHOD:PUBLISH
X-WR-CALNAME:S4G School for Games
X-ORIGINAL-URL:https://www.school4games.net
X-WR-CALDESC:Veranstaltungen für S4G School for Games
REFRESH-INTERVAL;VALUE=DURATION:PT1H
X-Robots-Tag:noindex
X-PUBLISHED-TTL:PT1H
BEGIN:VTIMEZONE
TZID:Europe/Berlin
BEGIN:DAYLIGHT
TZOFFSETFROM:+0100
TZOFFSETTO:+0200
TZNAME:CEST
DTSTART:20250330T010000
END:DAYLIGHT
BEGIN:STANDARD
TZOFFSETFROM:+0200
TZOFFSETTO:+0100
TZNAME:CET
DTSTART:20251026T010000
END:STANDARD
BEGIN:DAYLIGHT
TZOFFSETFROM:+0100
TZOFFSETTO:+0200
TZNAME:CEST
DTSTART:20260329T010000
END:DAYLIGHT
BEGIN:STANDARD
TZOFFSETFROM:+0200
TZOFFSETTO:+0100
TZNAME:CET
DTSTART:20261025T010000
END:STANDARD
BEGIN:DAYLIGHT
TZOFFSETFROM:+0100
TZOFFSETTO:+0200
TZNAME:CEST
DTSTART:20270328T010000
END:DAYLIGHT
BEGIN:STANDARD
TZOFFSETFROM:+0200
TZOFFSETTO:+0100
TZNAME:CET
DTSTART:20271031T010000
END:STANDARD
END:VTIMEZONE
BEGIN:VEVENT
DTSTART;VALUE=DATE:20260424
DTEND;VALUE=DATE:20260426
DTSTAMP:20260424T155250
CREATED:20251203T123144Z
LAST-MODIFIED:20260120T101517Z
UID:62602-1776988800-1777161599@www.school4games.net
SUMMARY:Baltic Games Fest Neumünster
DESCRIPTION:
URL:https://www.school4games.net/termin/einstieg-berlin-2/
CATEGORIES:Entertainment Event
ATTACH;FMTTYPE=image/jpeg:https://www.school4games.net/wp-content/uploads/2025/12/termine_balticgamesfest.jpg
END:VEVENT
BEGIN:VEVENT
DTSTART;VALUE=DATE:20260508
DTEND;VALUE=DATE:20260510
DTSTAMP:20260424T155250
CREATED:20221202T132628Z
LAST-MODIFIED:20251203T122246Z
UID:59585-1778198400-1778371199@www.school4games.net
SUMMARY:Career Compass Messe
DESCRIPTION:
URL:https://www.school4games.net/termin/karrieretag-hamburg/
CATEGORIES:Bildungsmesse
ATTACH;FMTTYPE=image/jpeg:https://www.school4games.net/wp-content/uploads/2020/11/termine_vocatium.jpg
END:VEVENT
BEGIN:VEVENT
DTSTART;TZID=Europe/Berlin:20260511T100000
DTEND;TZID=Europe/Berlin:20260514T170000
DTSTAMP:20260424T155250
CREATED:20211117T141816Z
LAST-MODIFIED:20251104T124219Z
UID:58026-1778493600-1778778000@www.school4games.net
SUMMARY:Schnupperkurs Hamburg
DESCRIPTION:
URL:https://www.school4games.net/termin/schnupperkurs-hamburg/
LOCATION:S4G School for Games Hamburg\, Friedrich-Ebert-Damm 145\, Hamburg\, Hamburg\, 22047\, Deutschland
CATEGORIES:Schnupperkurs
ATTACH;FMTTYPE=image/jpeg:https://www.school4games.net/wp-content/uploads/2021/10/termine_schnupperkurs04.jpg
END:VEVENT
BEGIN:VEVENT
DTSTART;TZID=Europe/Berlin:20260513T160000
DTEND;TZID=Europe/Berlin:20260513T170000
DTSTAMP:20260424T155250
CREATED:20240611T130158Z
LAST-MODIFIED:20260422T063210Z
UID:61299-1778688000-1778691600@www.school4games.net
SUMMARY:S4G Online Beratungstermin
DESCRIPTION:
URL:https://www.school4games.net/termin/s4g-infoabend-online-2-3-2-3/
CATEGORIES:Infoabend
ATTACH;FMTTYPE=image/jpeg:https://www.school4games.net/wp-content/uploads/2024/05/Discord_Beratungstermine.jpg
END:VEVENT
BEGIN:VEVENT
DTSTART;TZID=Europe/Berlin:20260610T160000
DTEND;TZID=Europe/Berlin:20260610T170000
DTSTAMP:20260424T155250
CREATED:20240611T130045Z
LAST-MODIFIED:20260422T063302Z
UID:61297-1781107200-1781110800@www.school4games.net
SUMMARY:S4G Online Beratungstermin
DESCRIPTION:
URL:https://www.school4games.net/termin/s4g-infoabend-online-2-3-2-2/
CATEGORIES:Infoabend
ATTACH;FMTTYPE=image/jpeg:https://www.school4games.net/wp-content/uploads/2024/05/Discord_Beratungstermine.jpg
END:VEVENT
BEGIN:VEVENT
DTSTART;TZID=Europe/Berlin:20260611T100000
DTEND;TZID=Europe/Berlin:20260611T170000
DTSTAMP:20260424T155250
CREATED:20220118T123733Z
LAST-MODIFIED:20251203T121753Z
UID:58825-1781172000-1781197200@www.school4games.net
SUMMARY:Perspektivmesse Falkensee
DESCRIPTION:
URL:https://www.school4games.net/termin/open-day-in-der-rcadia/
CATEGORIES:Bildungsmesse
ATTACH;FMTTYPE=image/jpeg:https://www.school4games.net/wp-content/uploads/2020/10/termine_bildungsmesse01.jpg
END:VEVENT
BEGIN:VEVENT
DTSTART;TZID=Europe/Berlin:20260620T140000
DTEND;TZID=Europe/Berlin:20260620T180000
DTSTAMP:20260424T155250
CREATED:20231130T134744Z
LAST-MODIFIED:20251203T123618Z
UID:60288-1781964000-1781978400@www.school4games.net
SUMMARY:Tag der offenen Tür Hamburg
DESCRIPTION:
URL:https://www.school4games.net/termin/tag-der-offenen-tuer-berlin-4/
LOCATION:S4G School for Games Hamburg\, Friedrich-Ebert-Damm 145\, Hamburg\, Hamburg\, 22047\, Deutschland
CATEGORIES:Tag der offenen Tür
ATTACH;FMTTYPE=image/jpeg:https://www.school4games.net/wp-content/uploads/2021/11/blog_global_game_jam.jpg
END:VEVENT
BEGIN:VEVENT
DTSTART;TZID=Europe/Berlin:20260715T160000
DTEND;TZID=Europe/Berlin:20260715T170000
DTSTAMP:20260424T155250
CREATED:20240611T130014Z
LAST-MODIFIED:20260422T063337Z
UID:61295-1784131200-1784134800@www.school4games.net
SUMMARY:S4G Online Beratungstermin
DESCRIPTION:
URL:https://www.school4games.net/termin/s4g-infoabend-online-2-3-3/
CATEGORIES:Infoabend
ATTACH;FMTTYPE=image/jpeg:https://www.school4games.net/wp-content/uploads/2024/05/Discord_Beratungstermine.jpg
END:VEVENT
BEGIN:VEVENT
DTSTART;TZID=Europe/Berlin:20260727T100000
DTEND;TZID=Europe/Berlin:20260730T170000
DTSTAMP:20260424T155250
CREATED:20211117T152911Z
LAST-MODIFIED:20251104T125209Z
UID:58047-1785146400-1785430800@www.school4games.net
SUMMARY:Schnupperkurs Berlin
DESCRIPTION:
URL:https://www.school4games.net/termin/schnupperkurs-berlin-2/
LOCATION:S4G School for Games Berlin\, Grünberger Straße 54\, Berlin\, Berlin\, 10245\, Deutschland
CATEGORIES:Schnupperkurs
ATTACH;FMTTYPE=image/jpeg:https://www.school4games.net/wp-content/uploads/2020/10/termine_schnupperkurs01.jpg
END:VEVENT
BEGIN:VEVENT
DTSTART;TZID=Europe/Berlin:20260727T100000
DTEND;TZID=Europe/Berlin:20260730T170000
DTSTAMP:20260424T155250
CREATED:20240611T150250Z
LAST-MODIFIED:20251104T125327Z
UID:61307-1785146400-1785430800@www.school4games.net
SUMMARY:Schnupperkurs Online
DESCRIPTION:
URL:https://www.school4games.net/termin/schnupperkurs-hamburg-3-2/
LOCATION:S4G School for Games Hamburg\, Friedrich-Ebert-Damm 145\, Hamburg\, Hamburg\, 22047\, Deutschland
CATEGORIES:Schnupperkurs Online
ATTACH;FMTTYPE=image/jpeg:https://www.school4games.net/wp-content/uploads/2024/06/schnupperkurs_online.jpg
END:VEVENT
BEGIN:VEVENT
DTSTART;TZID=Europe/Berlin:20260803T100000
DTEND;TZID=Europe/Berlin:20260806T170000
DTSTAMP:20260424T155250
CREATED:20211117T153442Z
LAST-MODIFIED:20251104T130345Z
UID:58056-1785751200-1786035600@www.school4games.net
SUMMARY:Schnupperkurs Hamburg
DESCRIPTION:
URL:https://www.school4games.net/termin/schnupperkurs-hamburg-3/
LOCATION:S4G School for Games Hamburg\, Friedrich-Ebert-Damm 145\, Hamburg\, Hamburg\, 22047\, Deutschland
CATEGORIES:Schnupperkurs
ATTACH;FMTTYPE=image/jpeg:https://www.school4games.net/wp-content/uploads/2021/10/termine_schnupperkurs04.jpg
END:VEVENT
BEGIN:VEVENT
DTSTART;TZID=Europe/Berlin:20260812T160000
DTEND;TZID=Europe/Berlin:20260812T170000
DTSTAMP:20260424T155250
CREATED:20240611T124314Z
LAST-MODIFIED:20260422T063413Z
UID:61292-1786550400-1786554000@www.school4games.net
SUMMARY:S4G Online Beratungstermin
DESCRIPTION:
URL:https://www.school4games.net/termin/s4g-infoabend-online-2-3-2/
CATEGORIES:Infoabend
ATTACH;FMTTYPE=image/jpeg:https://www.school4games.net/wp-content/uploads/2024/05/Discord_Beratungstermine.jpg
END:VEVENT
BEGIN:VEVENT
DTSTART;TZID=Europe/Berlin:20260909T160000
DTEND;TZID=Europe/Berlin:20260909T170000
DTSTAMP:20260424T155250
CREATED:20240611T123724Z
LAST-MODIFIED:20260422T063447Z
UID:61288-1788969600-1788973200@www.school4games.net
SUMMARY:S4G Online Beratungstermin
DESCRIPTION:
URL:https://www.school4games.net/termin/s4g-infoabend-online-2-2/
CATEGORIES:Infoabend
ATTACH;FMTTYPE=image/jpeg:https://www.school4games.net/wp-content/uploads/2024/05/Discord_Beratungstermine.jpg
END:VEVENT
BEGIN:VEVENT
DTSTART;TZID=Europe/Berlin:20260912T100000
DTEND;TZID=Europe/Berlin:20260912T160000
DTSTAMP:20260424T155250
CREATED:20251203T123823Z
LAST-MODIFIED:20251203T123839Z
UID:62605-1789207200-1789228800@www.school4games.net
SUMMARY:stuzubi Messe Hamburg
DESCRIPTION:
URL:https://www.school4games.net/termin/ideenexpo-hannover-2/
CATEGORIES:Bildungsmesse
ATTACH;FMTTYPE=image/jpeg:https://www.school4games.net/wp-content/uploads/2020/10/termine_stuzubi.jpg
END:VEVENT
BEGIN:VEVENT
DTSTART;VALUE=DATE:20261009
DTEND;VALUE=DATE:20261012
DTSTAMP:20260424T155250
CREATED:20220111T164027Z
LAST-MODIFIED:20251203T124132Z
UID:58763-1791504000-1791763199@www.school4games.net
SUMMARY:Polaris Convention Hamburg
DESCRIPTION:
URL:https://www.school4games.net/termin/infoabend-hamburg-2/
CATEGORIES:Entertainment Event
ATTACH;FMTTYPE=image/jpeg:https://www.school4games.net/wp-content/uploads/2022/01/POLARIS-HP_Termine_pic-1.jpg
END:VEVENT
BEGIN:VEVENT
DTSTART;TZID=Europe/Berlin:20261017T100000
DTEND;TZID=Europe/Berlin:20261017T160000
DTSTAMP:20260424T155250
CREATED:20221202T123552Z
LAST-MODIFIED:20251203T122118Z
UID:59583-1792231200-1792252800@www.school4games.net
SUMMARY:stuzubi Messe Berlin
DESCRIPTION:
URL:https://www.school4games.net/termin/stuzubi-berlin-2/
CATEGORIES:Bildungsmesse
ATTACH;FMTTYPE=image/jpeg:https://www.school4games.net/wp-content/uploads/2020/10/termine_stuzubi.jpg
END:VEVENT
BEGIN:VEVENT
DTSTART;VALUE=DATE:20261111
DTEND;VALUE=DATE:20261115
DTSTAMP:20260424T155250
CREATED:20250722T141656Z
LAST-MODIFIED:20251203T124215Z
UID:62453-1794355200-1794700799@www.school4games.net
SUMMARY:PLAY Festival Hamburg
DESCRIPTION:
URL:https://www.school4games.net/termin/play-festival-hamburg/
CATEGORIES:Entertainment Event
ATTACH;FMTTYPE=image/jpeg:https://www.school4games.net/wp-content/uploads/2022/01/PLAY_Festival_final.jpg
END:VEVENT
BEGIN:VEVENT
DTSTART;VALUE=DATE:20261113
DTEND;VALUE=DATE:20261115
DTSTAMP:20260424T155250
CREATED:20220624T112620Z
LAST-MODIFIED:20251203T122208Z
UID:59345-1794528000-1794700799@www.school4games.net
SUMMARY:Einstieg Berlin
DESCRIPTION:
URL:https://www.school4games.net/termin/einstieg-berlin/
CATEGORIES:Bildungsmesse
ATTACH;FMTTYPE=image/jpeg:https://www.school4games.net/wp-content/uploads/2020/11/termine_vocatium.jpg
END:VEVENT
BEGIN:VEVENT
DTSTART;TZID=Europe/Berlin:20261128T140000
DTEND;TZID=Europe/Berlin:20261128T180000
DTSTAMP:20260424T155250
CREATED:20211117T142059Z
LAST-MODIFIED:20251203T124042Z
UID:58029-1795874400-1795888800@www.school4games.net
SUMMARY:Tag der offenen Tür Hamburg
DESCRIPTION:
URL:https://www.school4games.net/termin/tag-der-offenen-tuer-2/
LOCATION:S4G School for Games Hamburg\, Friedrich-Ebert-Damm 145\, Hamburg\, Hamburg\, 22047\, Deutschland
CATEGORIES:Tag der offenen Tür
ATTACH;FMTTYPE=image/jpeg:https://www.school4games.net/wp-content/uploads/2025/02/Student-Meeting-Hamburg-Juni-2024_web.jpg
END:VEVENT
END:VCALENDAR